BEGIN:VCALENDAR
PRODID:-//Atomes//ROR Geronto//FR
VERSION:2.0
CALSCALE:GREGORIAN
BEGIN:VEVENT
DTSTAMP:20241114T105832Z
DTSTART:20221107T140000
DTEND:20221107T160000
SUMMARY:maladies-rares--quels-appuis-aux
UID:2754031b-2606-46ce-8b79-1b8e5a03ffa8
LOCATION:en visioconférence
END:VEVENT
END:VCALENDAR
