BEGIN:VCALENDAR
PRODID:-//Atomes//ROR Geronto//FR
VERSION:2.0
CALSCALE:GREGORIAN
BEGIN:VEVENT
DTSTAMP:20230908T104353Z
DTSTART:20230914T100000
DTEND:20230914T130000
SUMMARY:les-jeudis-de-la-prevention-mieu
UID:a407c85f-4e4b-496b-b1f6-a1030d05f052
LOCATION:Hôpital Universitaire Avicennes
END:VEVENT
END:VCALENDAR
