BEGIN:VCALENDAR
PRODID:-//Atomes//ROR Geronto//FR
VERSION:2.0
CALSCALE:GREGORIAN
BEGIN:VEVENT
DTSTAMP:20241114T105824Z
DTSTART:20211009T100000
DTEND:20211009T170000
SUMMARY:journee-portes-ouvertes--equi-1
UID:7909be6c-f327-42c2-81c1-0e9a192b94b7
LOCATION:Place MONTGOMERY - Neuilly-Plaisance
END:VEVENT
END:VCALENDAR
