BEGIN:VCALENDAR
PRODID:-//Atomes//ROR Geronto//FR
VERSION:2.0
CALSCALE:GREGORIAN
BEGIN:VEVENT
DTSTAMP:20230908T102241Z
DTSTART;VALUE=DATE:20230918
SUMMARY:des-ateliers-apa-pour-les-pantin
UID:f3cd2c83-c547-40e1-b1e5-710e73097981
LOCATION:Gymnase Maurice Baquet et au CMS Cornet
END:VEVENT
END:VCALENDAR
