BEGIN:VCALENDAR
PRODID:-//Atomes//ROR Geronto//FR
VERSION:2.0
CALSCALE:GREGORIAN
BEGIN:VEVENT
DTSTAMP:20211210T100838Z
DTSTART:20220112T140000
DTEND:20220113T121500
SUMMARY:WEBINAIRES "INNOVER PAR LE DESIGN DANS LE GRAND ÂGE ET LE HANDICA
 P"
UID:ade53c9c-3a64-4362-85ff-2086b8e1d32b
LOCATION:Webinaire
DESCRIPTION:Le design ne s’applique pas seulement aux objets. Nombre de p
 rojets de design ont vocation à apporter des solutions prenant la forme 
 d’aménagement d’espaces et de lieux\, d’évolution des services\, de proc
 essus mieux pensés et optimisés\, de propositions d’innovations … Découv
 rez comment le design peut s’appliquer au secteur du grand âge ou du han
 dicap à travers 16 réalisations soutenues par la CNSA. Ces webinaires se
 ront animés par Régis de Closets. Contenu : Améliorer l’accès aux droits
  et le parcours des personnes âgées ou handicapées grâce au design socia
 l Renforcer l’inclusion des personnes grâce à des projets ou produits pe
 nsés par les personnes concernées Comment le design social peut-il aider
  à transformer les EHPAD (établissements d’hébergement pour personnes âg
 ées dépendantes) Comment renforcer la communication et les interactions 
 dans et au dehors de l’établissement en associant les personnes concerné
 es ?   Programme complet: ici Inscriptions : Inscription sur le site htt
 p://webinaires-design-cnsa.fr Secrétariat de la manifestation infos@webi
 naires-design-cnsa.fr Tél. : 02 31 942 942
END:VEVENT
END:VCALENDAR
